BEGIN:VCALENDAR
VERSION:2.0
PRODID:-//MEDEF Charente Maritime - ECPv6.11.0.1//NONSGML v1.0//EN
CALSCALE:GREGORIAN
METHOD:PUBLISH
X-ORIGINAL-URL:https://medef17.com
X-WR-CALDESC:Évènements pour MEDEF Charente Maritime
REFRESH-INTERVAL;VALUE=DURATION:PT1H
X-Robots-Tag:noindex
X-PUBLISHED-TTL:PT1H
BEGIN:VTIMEZONE
TZID:Europe/Paris
BEGIN:DAYLIGHT
TZOFFSETFROM:+0100
TZOFFSETTO:+0200
TZNAME:CEST
DTSTART:20240331T010000
END:DAYLIGHT
BEGIN:STANDARD
TZOFFSETFROM:+0200
TZOFFSETTO:+0100
TZNAME:CET
DTSTART:20241027T010000
END:STANDARD
END:VTIMEZONE
BEGIN:VEVENT
DTSTART;TZID=Europe/Paris:20240109T090000
DTEND;TZID=Europe/Paris:20240109T110000
DTSTAMP:20260421T222735
CREATED:20231220T150639Z
LAST-MODIFIED:20231221T130323Z
UID:2048-1704790800-1704798000@medef17.com
SUMMARY:Présentation sur la loi de finances et loi de financement de la sécurité sociale
DESCRIPTION:[vc_row][vc_column][vc_column_text]Retrouvez-nous pour une présentation de la loi de finances et la loi de financement de la sécurité sociale.\nLe mardi 9 janvier de 9h à 11h au siège du MEDEF 17.\nCe club Juridique sera animé par Me Maxime MORNET avocat associé du cabinet FIDAL.[/vc_column_text]JE M’INSCRIS ![/vc_column][/vc_row]
URL:https://medef17.com/event/presentation-sur-la-loi-de-finances-et-loi-de-financement-de-la-securite-sociale/
LOCATION:MEDEF 17\, 3 rue Alphonse de Saintonge\, LA ROCHELLE\, 17000
CATEGORIES:Club juridique
ATTACH;FMTTYPE=image/jpeg:https://medef17.com/wp-content/uploads/2023/12/9janvier.jpg
END:VEVENT
END:VCALENDAR