BEGIN:VCALENDAR
VERSION:2.0
PRODID:-//MEDEF Charente Maritime - ECPv6.11.0.1//NONSGML v1.0//EN
CALSCALE:GREGORIAN
METHOD:PUBLISH
X-ORIGINAL-URL:https://medef17.com
X-WR-CALDESC:Évènements pour MEDEF Charente Maritime
REFRESH-INTERVAL;VALUE=DURATION:PT1H
X-Robots-Tag:noindex
X-PUBLISHED-TTL:PT1H
BEGIN:VTIMEZONE
TZID:Europe/Paris
BEGIN:DAYLIGHT
TZOFFSETFROM:+0100
TZOFFSETTO:+0200
TZNAME:CEST
DTSTART:20250330T010000
END:DAYLIGHT
BEGIN:STANDARD
TZOFFSETFROM:+0200
TZOFFSETTO:+0100
TZNAME:CET
DTSTART:20251026T010000
END:STANDARD
END:VTIMEZONE
BEGIN:VEVENT
DTSTART;TZID=Europe/Paris:20250417T173000
DTEND;TZID=Europe/Paris:20250417T220000
DTSTAMP:20260422T043103
CREATED:20250324T082608Z
LAST-MODIFIED:20250422T083332Z
UID:3238-1744911000-1744927200@medef17.com
SUMMARY:Assemblée Générale 2025
DESCRIPTION:[vc_row][vc_column][vc_column_text css= » »]EXCLUSIVEMENT RÉSERVÉ AUX ADHÉRENTS À JOUR DE LEUR COTISATION. \nCher(e) adhérent(e)\, \nJeudi 17 avril se tiendra l’Assemblée Générale du MEDEF Charente-Maritime. Il s’agit d’un moment privilégié pour se retrouver et faire le point sur l’année écoulée. \nL’Assemblée Générale Ordinaire sera précédée d’une Assemblée Générale Extraordinaire du MEDEF Charente-Maritime\, conformément à nos statuts et afin de procéder à une modification de ces statuts. \nL’ordre du jour de l’Assemblée Générale Extraordinaire sera le suivant : \n\nPrésentation du projet de modification des statuts\nCréation de nouvelles catégories de membres\nDélibération et vote sur la modification des statuts\nQuestions diverses\n\nProposition de nouvelles catégories de membres : \nDans l’objectif d’ouvrir davantage notre MEDEF à des personnes qui ne remplissent pas les conditions d’adhésion en tant que membres actifs\, nous proposons la création de nouvelles catégories de membres. \nNous comptons vivement sur votre participation pour approuver ces changements qui contribueront au développement et à l’ouverture du MEDEF Charente-Maritime. \nL’ordre du jour de l’Assemblée Générale Ordinaire sera le suivant : \n\nRapport moral\nRapport financier\nRapport du commissaire aux comptes\nApprobation des comptes et affectation du résultat 2024\nRatification des administrateurs entrants et sortants\nActions à mener pour 2025\nApprobation du budget prévisionnel 2025\n\nÀ cette occasion nous aurons le plaisir d’accueillir François LENGLET\, journaliste spécialisé en économie. \nIl nous présentera une analyse économique sans concession des bouleversements actuels. Toujours à jour et bien documenté\, il décrit avec précision et pédagogie les changements économiques\, technologiques\, écologiques et sociaux\, en les replaçant dans une perspective historique. En dépassant l’actualité immédiate\, il nous aide à comprendre la profonde et positive transformation de nos économies\, nous permettant ainsi de prendre du recul et d’apprécier le contexte global. \nVoici le programme de cette soirée : \n\n17h30 : Accueil chez Excelia – La Rochelle\n18h00 : Assemblée Générale (Assemblée Générale Extraordinaire + Assemblée Générale Ordinaire)\n19h30 : Conférence de François LENGLET\n20h30 : Cocktail\n\nEn cas d’absence\, donnez pouvoir à un autre membre pour vous représenter\, en cliquant sur le lien ci-après : Pouvoir_AG_2025.pdf et de nous l’envoyer à l’adresse : evenement@medef17.fr \nCordialement\, \nLaurent LOPEZ \nPrésident du MEDEF Charente-Maritime[/vc_column_text]JE M’INSCRIS ![/vc_column][/vc_row]
URL:https://medef17.com/event/assemblee-generale-2025/
LOCATION:EXCELIA\, 102 rue de Coureilles\, La Rochelle\, 17000\, France
CATEGORIES:Assemblée Générale
ATTACH;FMTTYPE=image/png:https://medef17.com/wp-content/uploads/2025/03/AG-visuel-4.png
END:VEVENT
END:VCALENDAR